BEGIN:VCALENDAR
VERSION:2.0
PRODID:-//hacksw/handcal//NONSGML v1.0//EN
CALSCALE:GREGORIAN
BEGIN:VEVENT
LOCATION:Chateau St.Havel - Před nádražím 1/6\, Praha 4
DESCRIPTION:Zveme vás na padel turnaj Vision Business Clubu\, který propojí sport\, networking a skvělou atmosféru\, na kterou jste zvyklí z našich večerů\, jen tentokrát v pohybu. 
Akce se uskuteční od 17 do 19 hodin\, dorazte prosím včas. 

DTSTART:20260427T150000Z
DTEND:20260427T170000Z
SUMMARY:Sportovní klubový večer - padel
URL;VALUE=URI:https://www.visionclub.cz/program/2026-04-27-klubovy-vecer
DTSTAMP:20260425T150235Z
UID:69ecd78b8dce9
END:VEVENT
END:VCALENDAR