BEGIN:VCALENDAR
VERSION:2.0
PRODID:-//hacksw/handcal//NONSGML v1.0//EN
CALSCALE:GREGORIAN
BEGIN:VEVENT
LOCATION:Chateau St.Havel - Před nádražím 1/6\, Praha 4
DESCRIPTION:Milí členové\,

zveme vás na nový formát klubového večera určený exkluzivně pro naše členy - večer\, kde se nemluví jen o úspěších.

V podnikání i v životě často sdílíme výsledky\, milníky a vítězství\, ale to\, co nás skutečně formuje\, jsou momenty\, které nevyšly podle plánu. Rozhodnutí\, která bolela\, projekty\, které nedopadly. Lekce\, které přišly draze a přesto nás posunuly dál.

Zveme vás na vůbec první Vision Business Club Fuck Up Night. Večer otevřených příběhů\, autenticity a inspirace\, kde si společně řekneme\, co se nepovedlo… a proč to nakonec stálo za to.

???? Co vás čeká?
– Sdílení reálných podnikatelských i osobních „fuck ups“ bez pozlátka
– Inspirace od lidí\, kteří mají odvahu mluvit otevřeně
– Networking v bezpečném a respektujícím prostředí
– Perspektiva\, že selhání není konec\, ale často začátek nové kapitoly

Nejde o dokonalost.
Jde o zkušenost.
A o komunitu\, která ví\, že růst nevzniká jen z úspěchů.
DTSTART:20260518T163000Z
DTEND:20260518T183000Z
SUMMARY:První klubový fuck up večer
URL;VALUE=URI:https://www.visionclub.cz/program/2026-05-18-save-inspire
DTSTAMP:20260425T132428Z
UID:69ecc08c78fe7
END:VEVENT
END:VCALENDAR