BEGIN:VCALENDAR
VERSION:2.0
PRODID:-//hacksw/handcal//NONSGML v1.0//EN
CALSCALE:GREGORIAN
BEGIN:VEVENT
LOCATION:Chateau St.Havel - Před nádražím 1/6\, Praha 4
DESCRIPTION:Petr a Zuzana Štěpánkovi patří mezi výrazné osobnosti\, které dlouhodobě propojují podnikání\, osobní rozvoj\, vědomou práci s myslí\, emocemi a tělem. Ve své práci i životě se dotýkají témat lidského potenciálu\, rozhodování\, vnitřního nastavení a rovnováhy v době rychlých společenských a technologických změn.
DTSTART:20260525T163000Z
DTEND:20260525T183000Z
SUMMARY:Petr a Zuzana Štěpánkovi
URL;VALUE=URI:https://www.visionclub.cz/program/2026-05-25-klubovy-vecer
DTSTAMP:20260425T132259Z
UID:69ecc0339cbdf
END:VEVENT
END:VCALENDAR