BEGIN:VCALENDAR
VERSION:2.0
PRODID:-//hacksw/handcal//NONSGML v1.0//EN
CALSCALE:GREGORIAN
BEGIN:VEVENT
LOCATION:Chateau St.Havel - Před nádražím 1/6\, Praha 4
DESCRIPTION:Zveme vás na uzavřený mastermind večer pouze pro členy Vision Business Clubu\, kde nepůjde o teorii\, ale o sdílení konkrétních zkušeností\, strategií a rozhodnutí\, která v reálném životě fungují. Tentokrát na téma "Investice".


DTSTART:20260608T163000Z
DTEND:20260608T183000Z
SUMMARY:Mastermind: Investice
URL;VALUE=URI:https://www.visionclub.cz/program/2026-06-08-klubovy-vecer
DTSTAMP:20260425T132346Z
UID:69ecc0620ffad
END:VEVENT
END:VCALENDAR