BEGIN:VCALENDAR
VERSION:2.0
PRODID:-//hacksw/handcal//NONSGML v1.0//EN
CALSCALE:GREGORIAN
BEGIN:VEVENT
LOCATION:Chateau St.Havel - Před nádražím 1/6\, Praha 4
DESCRIPTION:
DTSTART:20260622T163000Z
DTEND:20260622T183000Z
SUMMARY:Závěrečný večírek sezony
URL;VALUE=URI:https://www.visionclub.cz/program/2026-06-22-zaverecny-vecirek-sezony
DTSTAMP:20260425T132533Z
UID:69ecc0cd81134
END:VEVENT
END:VCALENDAR